BEGIN:VCALENDAR
VERSION:2.0
PRODID:-//wp-events-plugin.com//7.2.3.1//EN
TZID:Europe/Berlin
X-WR-TIMEZONE:Europe/Berlin
BEGIN:VEVENT
UID:9146@kinderschutzbund-duesseldorf.de
DTSTART;TZID=Europe/Berlin:20240915T120000
DTEND;TZID=Europe/Berlin:20240915T180000
DTSTAMP:20240809T071529Z
URL:https://kinderschutzbund-duesseldorf.de/events/fest-zum-weltkindertag-
 2024/
SUMMARY:Fest zum Weltkindertag 2024
DESCRIPTION:\n\n\n\n\n\n\n\n\nIn diesem Jahr wird von den Düsseldorfer Kin
 der- und Jugendfreizeiteinrichtungen des Jugendamtes und der Freien Träge
 rn sowie von den Jugendverbänden das Fest zum Weltkindertag am 15. Septem
 ber 2024 wieder in den Stadtbezirken Düsseldorfs dezentral organisiert. E
 s werden 11 Kinder- und Familienfeste vom Süden bis zum Norden\, vom Oste
 n bis zum Westen geplant und durchgeführt.\n\n\n\nDer Kinderschutzbund is
 t am Platz der Kinderrechte dabei!\n\n\n\nMit den Kinderrechten in die Zuk
 unft\n\n\n\nAnlässlich des diesjährigen Weltkindertags laden wir Sie unt
 er dem Motto "Mit den Kinderrechten in die Zukunft" zum Dialog ein. Währe
 nd sich Paare in gemütlichen Sesseln austauschen\, erwartet jüngere Kind
 er ein spannendes Kinderrechte-Memory. Die Veranstaltung geht von 12.00 
 – 18.00 Uhr\, am Platz der Kinderrechte.\n\n\n\nMehr Infos zu allen Vera
 nstaltungen\n\n\n\n\nWebsite des Jugendamtes Düsseldorf\n\n\n\n
CATEGORIES:Feste &amp; Veranstaltungen
LOCATION:Platz der Kinderrechte/Wasserspielplatz im Volksgarten\, Emmastra
 ße\, Düsseldorf\, Nordrhein-Westfalen\, 40227\, Düsseldorf\, Deutschlan
 d
GEO:51.207502;6.801395
X-APPLE-STRUCTURED-LOCATION;VALUE=URI;X-ADDRESS=Emmastraße\, Düsseldorf\,
  Nordrhein-Westfalen\, 40227\, Düsseldorf\, Deutschland;X-APPLE-RADIUS=10
 0;X-TITLE=Platz der Kinderrechte/Wasserspielplatz im Volksgarten:geo:51.20
 7502,6.801395
END:VEVENT
BEGIN:VTIMEZONE
TZID:Europe/Berlin
X-LIC-LOCATION:Europe/Berlin
BEGIN:DAYLIGHT
DTSTART:20240331T030000
TZOFFSETFROM:+0100
TZOFFSETTO:+0200
TZNAME:CEST
END:DAYLIGHT
END:VTIMEZONE
END:VCALENDAR