BEGIN:VCALENDAR
VERSION:2.0
PRODID:-//wp-events-plugin.com//7.2.3.1//EN
TZID:Europe/Berlin
X-WR-TIMEZONE:Europe/Berlin
BEGIN:VEVENT
UID:11895@kinderschutzbund-duesseldorf.de
DTSTART;TZID=Europe/Berlin:20260323T093000
DTEND;TZID=Europe/Berlin:20260323T113000
DTSTAMP:20260303T130342Z
URL:https://kinderschutzbund-duesseldorf.de/events/infosprechstunde-zur-ki
 ndertagespflege-2/
SUMMARY:Infosprechstunde zur Kindertagespflege
DESCRIPTION:\n\nWie finde ich eine passende Kindertagespflege? Was muss ich
  tun um einen Platz zu bekommen? Ab wann fang ich an zu suchen? Was mache 
 ich\, wenn ich keinen Platz finde? Beim Thema Kinderbetreuung kommen schne
 ll viele Fragen auf. Während der Infoveranstaltung steht euch eine Fachkr
 aft des KiND VAMV Düsseldorf e.V. mit Rat und Antwort zu euren individuel
 len Anliegen rund um das Thema Kindertagespflege zur Seite.\n\n\n\n\n\n\n\
 n\n\n\n\n\n\n\n\nSchwangerschaft\, Säuglings- und Kleinkindalter\n\n\n\nD
 ie ersten Schritte als Eltern\n\n\n\nDas Familiencafé am Sana Krankenhaus
  Gerresheim bietet allen Schwangeren und Familien mit Kindern von 0 bis 3 
 Jahren die Möglichkeit\, sich kostenfrei und ohne Anmeldung auszutauschen
 \, sich beraten zu lassen und zu günstigen Preisen gebrauchte Kinderkleid
 ung zu erwerben.Für Eltern kann das Leben mit Kindern zur echten Herausfo
 rderung werden. Da ist es gut\, jemanden zum Reden und Zuhören zu haben\,
  der Rat weiß\, Tipps gibt oder auch Hilfen organisiert. Genau auf diese 
 Weise unterstützen die Mitarbeiter*innen des Familiencafés z.B. junge Fa
 milien\, die sich erst langsam an ihr neues Leben gewöhnen\, oder Eltern\
 , die viele Fragen haben und unsicher im Umgang mit ihrem Kind sind.Famili
 en mit individuellem und intensivem Beratungsbedarf haben die Möglichkeit
 \, hierfür einzelne Termine zu vereinbaren.\n\n\n\nKontakt\n\n\n\nAnke Te
 esselinkTelefon: 0211/61705724E-Mail:&nbsp\;teesselink@kinderschutzbund-du
 esseldorf.de\n\n\n\n
CATEGORIES:Familiencafés
LOCATION:Familiencafé am Sana\, Im Heidewinkel 8\, Düsseldorf\, Nordrhein
 -Westfalen\, 40625\, Deutschland
GEO:51.244628;6.855576
X-APPLE-STRUCTURED-LOCATION;VALUE=URI;X-ADDRESS=Im Heidewinkel 8\, Düsseld
 orf\, Nordrhein-Westfalen\, 40625\, Deutschland;X-APPLE-RADIUS=100;X-TITLE
 =Familiencafé am Sana:geo:51.244628,6.855576
END:VEVENT
BEGIN:VTIMEZONE
TZID:Europe/Berlin
X-LIC-LOCATION:Europe/Berlin
BEGIN:STANDARD
DTSTART:20251026T020000
TZOFFSETFROM:+0200
TZOFFSETTO:+0100
TZNAME:CET
END:STANDARD
END:VTIMEZONE
END:VCALENDAR