BEGIN:VCALENDAR
VERSION:2.0
PRODID:-//wp-events-plugin.com//7.2.3.1//EN
TZID:Europe/Berlin
X-WR-TIMEZONE:Europe/Berlin
BEGIN:VEVENT
UID:6072@kinderschutzbund-duesseldorf.de
DTSTART;TZID=Europe/Berlin:20231028T100000
DTEND;TZID=Europe/Berlin:20231028T113000
DTSTAMP:20231017T140943Z
URL:https://kinderschutzbund-duesseldorf.de/events/kreativangebot-21/
SUMMARY:Kreativangebot für Kinder im Grundschulalter
DESCRIPTION:\n\n\n\n\n\n\n\n\nMalen\, basteln\, kreativ sein!\n\n\n\nDie un
 terschiedlichsten Materialien laden zum Experimentieren ein und so mancher
  alltägliche Krimskrams findet eine neue Verwendung.Gemeinsam wird gebast
 elt\, danach können die Basteleien gern mitgenommen werden zum Spielen\, 
 Dekorieren oder Verschenken!\n\n\n\nIn den jeweiligen themenbezogenen Work
 shops können sich die Kinder im Selbermachen ausprobieren. Die inhaltlich
 e Ausrichtung der Bastelworkshops orientiert sich unter anderem an jahresz
 eitlichen Festen wie Weihnachten\, Karneval und Halloween. Neben der jahre
 szeitlichen Themenausrichtung stehen besonders die Interessen der Kinder i
 m Vordergrund.\n\n\n
CATEGORIES:Seminare &amp; Kurse für Kinder
LOCATION:Haus für Kinder BLAUER ELEFANT\, Posener Str. 60\, Düsseldorf\, 
 Nordrhein-Westfalen\, 40231\, Düsseldorf\, Deutschland
GEO:51.210232;6.833333
X-APPLE-STRUCTURED-LOCATION;VALUE=URI;X-ADDRESS=Posener Str. 60\, Düsseldo
 rf\, Nordrhein-Westfalen\, 40231\, Düsseldorf\, Deutschland;X-APPLE-RADIU
 S=100;X-TITLE=Haus für Kinder BLAUER ELEFANT:geo:51.210232,6.833333
END:VEVENT
BEGIN:VTIMEZONE
TZID:Europe/Berlin
X-LIC-LOCATION:Europe/Berlin
BEGIN:DAYLIGHT
DTSTART:20230326T030000
TZOFFSETFROM:+0100
TZOFFSETTO:+0200
TZNAME:CEST
END:DAYLIGHT
END:VTIMEZONE
END:VCALENDAR