BEGIN:VCALENDAR
VERSION:2.0
PRODID:-//wp-events-plugin.com//7.2.3.1//EN
TZID:Europe/Berlin
X-WR-TIMEZONE:Europe/Berlin
BEGIN:VEVENT
UID:9147@kinderschutzbund-duesseldorf.de
DTSTART;TZID=Europe/Berlin:20240816T130000
DTEND;TZID=Europe/Berlin:20240817T190000
DTSTAMP:20240809T081444Z
URL:https://kinderschutzbund-duesseldorf.de/events/olympic-adventure-camp-
 oac/
SUMMARY:Olympic Adventure Camp (OAC)
DESCRIPTION:\n\n\n\nhttps://www.youtube.com/watch?v=LaKhKAaIRqs\n\n\n\n\n\n
 \nDas Olympic Adventure Camp (OAC) ist dein sportlicher Höhepunkt in der 
 letzten Woche der Sommerferien in Düsseldorf!\n\n\n\nKinder\, Jugendliche
  und junge Erwachsene von 6 bis 21 Jahren können die Vielfalt des Düssel
 dorfer Sports aktiv erleben und ausprobieren. Mit vielen Angeboten aus den
  Bereichen Abenteuersport\, Klettern\, Trendsport und den olympischen Spor
 tarten (u.a. Fußball\, Fechten) bietet das OAC jede Menge Sport\, Spiel
 \, Spaß und Abenteuer!\n\n\n\nBringt eure Trinkflaschen mit: Es stehen ko
 stenlose Trinkwasserstellen zur Verfügung.\n\n\n\nDie Teilnahme an den An
 geboten ist unverbindlich und kostenlos. Eine Anmeldung ist nicht erforder
 lich.\n\n\n\nDer Kinderschutzbund ist am 16. und 17. August auch mit dabei
 !\n\n\n\nWir bieten eine Bewegungsbaustelle für die Kleinen und Zirkusspa
 ß für die Älteren – sowie Infos rund um die kinderrechte und gewaltfr
 eie Erziehung.\n\n\n\nMehr Infos\n\n\n\n\nWebsite des Jugendamtes Düsseld
 orf\n\n\n\n
CATEGORIES:Feste &amp; Veranstaltungen
LOCATION:Platz der Kinderrechte/Wasserspielplatz im Volksgarten\, Emmastra
 ße\, Düsseldorf\, Nordrhein-Westfalen\, 40227\, Düsseldorf\, Deutschlan
 d
GEO:51.207502;6.801395
X-APPLE-STRUCTURED-LOCATION;VALUE=URI;X-ADDRESS=Emmastraße\, Düsseldorf\,
  Nordrhein-Westfalen\, 40227\, Düsseldorf\, Deutschland;X-APPLE-RADIUS=10
 0;X-TITLE=Platz der Kinderrechte/Wasserspielplatz im Volksgarten:geo:51.20
 7502,6.801395
END:VEVENT
BEGIN:VTIMEZONE
TZID:Europe/Berlin
X-LIC-LOCATION:Europe/Berlin
BEGIN:DAYLIGHT
DTSTART:20240331T030000
TZOFFSETFROM:+0100
TZOFFSETTO:+0200
TZNAME:CEST
END:DAYLIGHT
END:VTIMEZONE
END:VCALENDAR