BEGIN:VCALENDAR
VERSION:2.0
PRODID:-//wp-events-plugin.com//7.2.3.1//EN
TZID:Europe/Berlin
X-WR-TIMEZONE:Europe/Berlin
BEGIN:VEVENT
UID:11898@kinderschutzbund-duesseldorf.de
DTSTART;TZID=Europe/Berlin:20260628T140000
DTEND;TZID=Europe/Berlin:20260628T161500
DTSTAMP:20260304T140109Z
URL:https://kinderschutzbund-duesseldorf.de/events/resilienztraining-7-10-
 jahre-8/
SUMMARY:Resilienztraining (7-10 Jahre)
DESCRIPTION:\n\n\nFoto © DKSB\n\n\n\nEinzeltermine\n\n\n\n2 x sonntags\, 1
 4:00 - 16:15 Uhr\n\n\n\n\n28.06.2026 \n\n\n\n12.07.2026\n\n\n\n\n\n\n\n\n\
 n\nSei mutig und entspannt wie ein Löwe\n\n\n\nResilienztraining für Kin
 der von 7 bis 10 Jahren\n\n\n\n\n\n\n\n\n\n\n\nInhalte\n\n\n\nDie Kinder l
 ernen ...\n\n\n\n\nKonflikte selbstsicher zu lösen\n\n\n\nin schwierigen 
 Situationen ruhig und entspannt zu bleiben\n\n\n\nklar zu kommunizieren\n\
 n\n\nihre Ziele zu verfolgen &amp\; nicht aufzugeben\n\n\n\nauf ihre Gefü
 hle zu hören\n\n\n\nsich auf das Positive zu fokussieren\n\n\n\nim Notfal
 l „richtig“ Hilfe zu holen\n\n\n\n\nLeitung\n\n\n\nAnne Gottbehüt\, z
 ertifizierte Selbstbehauptungs- &amp\; Resilienztrainerin\n\n\n\nBitte den
 ken Sie daran\, Ihren Kindern einen Kappe\, ein Spielzeug oder ihr Federm
 äppchen sowie einen kleinen Snack und Trinkflasche mitzugeben.\n\n\n
CATEGORIES:Seminare &amp; Kurse für Kinder
LOCATION:Der Kinderschutzbund Düsseldorf e.V. - Beratungszentrum\, Rochuss
 traße 47\, Düsseldorf\, NRW\, 40479\, Düsseldorf\, Deutschland
X-APPLE-STRUCTURED-LOCATION;VALUE=URI;X-ADDRESS=Rochusstraße 47\, Düsseld
 orf\, NRW\, 40479\, Düsseldorf\, Deutschland;X-APPLE-RADIUS=100;X-TITLE=D
 er Kinderschutzbund Düsseldorf e.V. - Beratungszentrum:geo:0,0
END:VEVENT
BEGIN:VTIMEZONE
TZID:Europe/Berlin
X-LIC-LOCATION:Europe/Berlin
BEGIN:DAYLIGHT
DTSTART:20260329T030000
TZOFFSETFROM:+0100
TZOFFSETTO:+0200
TZNAME:CEST
END:DAYLIGHT
END:VTIMEZONE
END:VCALENDAR