BEGIN:VCALENDAR
VERSION:2.0
PRODID:-//wp-events-plugin.com//7.2.3.1//EN
TZID:Europe/Berlin
X-WR-TIMEZONE:Europe/Berlin
BEGIN:VEVENT
UID:10585@kinderschutzbund-duesseldorf.de
DTSTART;TZID=Europe/Berlin:20250508T113000
DTEND;TZID=Europe/Berlin:20250508T123000
DTSTAMP:20250107T145343Z
URL:https://kinderschutzbund-duesseldorf.de/events/rueckbildungskurs-mit-b
 aby-2025-05-08/
SUMMARY:Rückbildungskurs mit Baby
DESCRIPTION:\n\n\n\n\n\n\n\n\nAnmeldung\n\n\n\n\n\n\nEin Kurs zur&nbsp\;St
 ärkung des Beckenbodens und der Bauchmuskulatur nach der Geburt. Beginn m
 öglich ab der 6. Woche nach spontaner Geburt bzw. ab der 10. Woche nach G
 eburt durch Kaiserschnitt. Bei all dem steht im Mittelpunkt den Körper so
  wahrzunehmen wie er aufgebaut ist und ihn so zu stärken\, dass der neue\
 , oft herausfordernde Alltag mit Kind gut gemeistert werden kann.\n\n\n\nD
 er Kurs erfolgt in Kooperation mit dem Kinderschutzbund Düsseldorf e.V. 
 Vor dem Kurs findet ein offener Treff für Familien mit Kindern im ersten 
 Lebensjahr statt.\n\n\n\nLeitung\n\n\n\nKatja Fenner\, Hebamme und seit 25
  Jahren Erfahrung im Bereich Rückbildung&nbsp\;&nbsp\;\n\n\n\nKosten\n\n\
 n\nDie Kosten für 10 Termine werden von der Krankenkasse übernommen.\n\n
 \n\nKontakt\n\n\n\nE-Mail:&nbsp\;mail@katja-hebamme.de\n\n\n\n
CATEGORIES:Familiencafés,Seminare &amp; Kurse für Eltern
LOCATION:Familiencafé am Sana\, Im Heidewinkel 8\, Düsseldorf\, Nordrhein
 -Westfalen\, 40625\, Deutschland
GEO:51.244628;6.855576
X-APPLE-STRUCTURED-LOCATION;VALUE=URI;X-ADDRESS=Im Heidewinkel 8\, Düsseld
 orf\, Nordrhein-Westfalen\, 40625\, Deutschland;X-APPLE-RADIUS=100;X-TITLE
 =Familiencafé am Sana:geo:51.244628,6.855576
END:VEVENT
BEGIN:VTIMEZONE
TZID:Europe/Berlin
X-LIC-LOCATION:Europe/Berlin
BEGIN:DAYLIGHT
DTSTART:20250330T030000
TZOFFSETFROM:+0100
TZOFFSETTO:+0200
TZNAME:CEST
END:DAYLIGHT
END:VTIMEZONE
END:VCALENDAR