BEGIN:VCALENDAR
VERSION:2.0
PRODID:-//wp-events-plugin.com//7.2.3.1//EN
TZID:Europe/Berlin
X-WR-TIMEZONE:Europe/Berlin
BEGIN:VEVENT
UID:11897@kinderschutzbund-duesseldorf.de
DTSTART;TZID=Europe/Berlin:20260917T160000
DTEND;TZID=Europe/Berlin:20260917T173000
DTSTAMP:20260303T135042Z
URL:https://kinderschutzbund-duesseldorf.de/events/tusch-kindergruppe-7-10
 -jahre-2/
SUMMARY:TuSch! – Kindergruppe (7-10 Jahre)
DESCRIPTION:\n\n\nFoto © DKSB Susanne Tessa Müller\n\n\n\nEinzeltermine\n
 \n\n\n12x donnerstags\, 16:00 - 17:30 Uhr\n\n\n\n\n17.09.2026\n\n\n\n24.09
 .2026\n\n\n\n01.10.2026\n\n\n\n08.10.2026\n\n\n\n15.10.2026\n\n\n\n05.11.2
 026\n\n\n\n12.11.2026\n\n\n\n19.11.2026\n\n\n\n26.11.2026\n\n\n\n03.12.202
 6\n\n\n\n10.12.2026\n\n\n\n17.12.2026\n\n\n\n\n\n\nInhalte\n\n\n\nGruppe f
 ür Kinder von 7 bis 10 Jahren aus Trennungs- und Scheidungsfamilien\n\n\n
 \nAus welchen Gründen auch immer eine Trennung stattfindet\, alle Parteie
 n brauchen Zeit\, ihre Emotionen zu verarbeiten. Gerade Kinder können dab
 ei häufig schnell in den Hintergrund geraten. Doch in dieser schwierigen 
 Zeit benötigen sie erst recht Zuwendung und Halt.Um Kindern in dieser Zei
 t den Rücken zu stärken\, bietet der Kinderschutzbund Düsseldorf eine G
 ruppe für Kinder in ähnlichen Situationen an.In der Gruppe erleben die K
 inder\, dass sie nicht allein mit dieser Situation sind\, Gefühle wie Wut
  und Angst normal sind\, und vor allem\, dass sie nicht schuld an der Tren
 nung ihrer Eltern sind. Gleichzeitig können sie sich aussprechen\, werden
  ernst genommen und brauchen keine Angst zu haben\, ihre Eltern zusätzlic
 h zu belasten.Das Gruppenangebot wird von pädagogischen Fachkräften gele
 itet. Begleitend finden für die Eltern Gespräche und ein Elternabend sta
 tt.\n\n\n\nLeitung\n\n\n\nSophie Bökmann\, SozialarbeiterinJana Tasche\, 
 Kinder- und Jugendcoach\n\n\n\nKontakt und Anmeldung\n\n\n\nTelefon: 0211/
 6170570E-Mail: boekmann@kinderschutzbund-duesseldorf.de\n\n\n\nDie Anmeld
 egespräche finden vor den Sommerferien ab dem 29.06.26 statt\n\n\n
CATEGORIES:Seminare &amp; Kurse für Kinder,Trennung/Scheidung
LOCATION:Der Kinderschutzbund Düsseldorf e.V. - Beratungszentrum\, Rochuss
 traße 47\, Düsseldorf\, NRW\, 40479\, Düsseldorf\, Deutschland
X-APPLE-STRUCTURED-LOCATION;VALUE=URI;X-ADDRESS=Rochusstraße 47\, Düsseld
 orf\, NRW\, 40479\, Düsseldorf\, Deutschland;X-APPLE-RADIUS=100;X-TITLE=D
 er Kinderschutzbund Düsseldorf e.V. - Beratungszentrum:geo:0,0
END:VEVENT
BEGIN:VTIMEZONE
TZID:Europe/Berlin
X-LIC-LOCATION:Europe/Berlin
BEGIN:DAYLIGHT
DTSTART:20260329T030000
TZOFFSETFROM:+0100
TZOFFSETTO:+0200
TZNAME:CEST
END:DAYLIGHT
END:VTIMEZONE
END:VCALENDAR